BEGIN:VCALENDAR
VERSION:2.0
PRODID:-//Tvořím a žiji svůj život - ECPv5.1.0//NONSGML v1.0//EN
CALSCALE:GREGORIAN
METHOD:PUBLISH
X-WR-CALNAME:Tvořím a žiji svůj život
X-ORIGINAL-URL:https://tvorimazijisvujzivot.cz
X-WR-CALDESC:Akce na Tvořím a žiji svůj život
BEGIN:VTIMEZONE
TZID:Europe/Prague
BEGIN:DAYLIGHT
TZOFFSETFROM:+0100
TZOFFSETTO:+0200
TZNAME:CEST
DTSTART:20180325T010000
END:DAYLIGHT
BEGIN:STANDARD
TZOFFSETFROM:+0200
TZOFFSETTO:+0100
TZNAME:CET
DTSTART:20181028T010000
END:STANDARD
END:VTIMEZONE
BEGIN:VEVENT
DTSTART;TZID=Europe/Prague:20181208T093000
DTEND;TZID=Europe/Prague:20181209T173000
DTSTAMP:20260426T043337
CREATED:20180711T171429Z
LAST-MODIFIED:20180719T053825Z
UID:732-1544261400-1544376600@tvorimazijisvujzivot.cz
SUMMARY:Láska 2
DESCRIPTION:Cena: 2300 Kč \nZáloha: 1000 Kč do 24.11.2018 \n
URL:https://tvorimazijisvujzivot.cz/seminar/laska-2-2
LOCATION:Golgota Place\, Orelská 11\, Praha 10\, Česká republika
CATEGORIES:Láska II,Od sebelásky k lásce
ATTACH;FMTTYPE=image/jpeg:https://tvorimazijisvujzivot.cz/wp-content/uploads/2017/10/Sebe_Lasky_K_Lasce_v1.jpg
ORGANIZER;CN="Ingrid%20Sukov%C3%A1":MAILTO:ingrid2000@volny.cz
END:VEVENT
END:VCALENDAR