BEGIN:VCALENDAR
VERSION:2.0
PRODID:-//Tvořím a žiji svůj život - ECPv5.1.0//NONSGML v1.0//EN
CALSCALE:GREGORIAN
METHOD:PUBLISH
X-WR-CALNAME:Tvořím a žiji svůj život
X-ORIGINAL-URL:https://tvorimazijisvujzivot.cz
X-WR-CALDESC:Akce na Tvořím a žiji svůj život
BEGIN:VTIMEZONE
TZID:Europe/Prague
BEGIN:DAYLIGHT
TZOFFSETFROM:+0100
TZOFFSETTO:+0200
TZNAME:CEST
DTSTART:20190331T010000
END:DAYLIGHT
BEGIN:STANDARD
TZOFFSETFROM:+0200
TZOFFSETTO:+0100
TZNAME:CET
DTSTART:20191027T010000
END:STANDARD
END:VTIMEZONE
BEGIN:VEVENT
DTSTART;TZID=Europe/Prague:20190505T090000
DTEND;TZID=Europe/Prague:20190505T130000
DTSTAMP:20260426T042035
CREATED:20190407T194557Z
LAST-MODIFIED:20190407T194557Z
UID:991-1557046800-1557061200@tvorimazijisvujzivot.cz
SUMMARY:Core Cry
DESCRIPTION:Cena: 1100 Kč \nZáloha: 500 Kč do 21.04.2019 \n
URL:https://tvorimazijisvujzivot.cz/seminar/core-cry-3
LOCATION:Senovážné náměstí\, Senovážné náměstí 23\, Praha\, 11000\, Česká republika
CATEGORIES:Birth Into Being
ATTACH;FMTTYPE=image/jpeg:https://tvorimazijisvujzivot.cz/wp-content/uploads/2017/10/Sebe_Lasky_K_Lasce_v1.jpg
ORGANIZER;CN="Ingrid%20Sukov%C3%A1":MAILTO:ingrid2000@volny.cz
END:VEVENT
END:VCALENDAR