BEGIN:VCALENDAR
VERSION:2.0
PRODID:-//Tvořím a žiji svůj život - ECPv5.1.0//NONSGML v1.0//EN
CALSCALE:GREGORIAN
METHOD:PUBLISH
X-WR-CALNAME:Tvořím a žiji svůj život
X-ORIGINAL-URL:https://tvorimazijisvujzivot.cz
X-WR-CALDESC:Akce na Tvořím a žiji svůj život
BEGIN:VTIMEZONE
TZID:Europe/Prague
BEGIN:DAYLIGHT
TZOFFSETFROM:+0100
TZOFFSETTO:+0200
TZNAME:CEST
DTSTART:20200329T010000
END:DAYLIGHT
BEGIN:STANDARD
TZOFFSETFROM:+0200
TZOFFSETTO:+0100
TZNAME:CET
DTSTART:20201025T010000
END:STANDARD
END:VTIMEZONE
BEGIN:VEVENT
DTSTART;TZID=Europe/Prague:20200606T100000
DTEND;TZID=Europe/Prague:20200606T150000
DTSTAMP:20260426T022555
CREATED:20200525T212944Z
LAST-MODIFIED:20200525T212944Z
UID:2398-1591437600-1591455600@tvorimazijisvujzivot.cz
SUMMARY:Core Cry
DESCRIPTION:Cena: 1500 Kč \nZáloha: 500 Kč do 30.05.2020 \n
URL:https://tvorimazijisvujzivot.cz/seminar/core-cry-12
LOCATION:Golgota Place\, Orelská 11\, Praha 10\, Česká republika
CATEGORIES:Birth Into Being
ATTACH;FMTTYPE=image/jpeg:https://tvorimazijisvujzivot.cz/wp-content/uploads/2017/10/Sebe_Lasky_K_Lasce_v1.jpg
ORGANIZER;CN="Ingrid%20Sukov%C3%A1":MAILTO:ingrid2000@volny.cz
END:VEVENT
END:VCALENDAR