BEGIN:VCALENDAR
VERSION:2.0
PRODID:-//Tvořím a žiji svůj život - ECPv5.1.0//NONSGML v1.0//EN
CALSCALE:GREGORIAN
METHOD:PUBLISH
X-WR-CALNAME:Tvořím a žiji svůj život
X-ORIGINAL-URL:https://tvorimazijisvujzivot.cz
X-WR-CALDESC:Akce na Tvořím a žiji svůj život
BEGIN:VTIMEZONE
TZID:Europe/Prague
BEGIN:DAYLIGHT
TZOFFSETFROM:+0100
TZOFFSETTO:+0200
TZNAME:CEST
DTSTART:20190331T010000
END:DAYLIGHT
BEGIN:STANDARD
TZOFFSETFROM:+0200
TZOFFSETTO:+0100
TZNAME:CET
DTSTART:20191027T010000
END:STANDARD
END:VTIMEZONE
BEGIN:VEVENT
DTSTART;VALUE=DATE:20190812
DTEND;VALUE=DATE:20190828
DTSTAMP:20260426T023205
CREATED:20190604T220154Z
LAST-MODIFIED:20190604T220719Z
UID:1060-1565568000-1566950399@tvorimazijisvujzivot.cz
SUMMARY:Birth Into Being s Elenou Tonetti-Vladimirova
DESCRIPTION:Jste srdečně zváni na semináře Eleny V. Tonneti\, tvůrkyně metody Brith into Being \nDedikovaná Stránka: http://www.birthintobeing.international\nUdálost na FB: https://www.facebook.com/events/288347165175857/\nInstagram: https://www.instagram.com/birthintobeing\nStránka Brith into Being: http://www.birthintobeing.com \n
URL:https://tvorimazijisvujzivot.cz/seminar/birth-into-being-s-elenou-tonetti-vladimirova
LOCATION:Kisslegg\, Germany\, Kißlegg\, 88353\, Německo
CATEGORIES:Birth Into Being
ATTACH;FMTTYPE=image/jpeg:https://tvorimazijisvujzivot.cz/wp-content/uploads/2019/06/57840130_550317198827600_5850343396600950482_n.jpg
END:VEVENT
END:VCALENDAR