BEGIN:VCALENDAR
VERSION:2.0
PRODID:-//Tvořím a žiji svůj život - ECPv5.1.0//NONSGML v1.0//EN
CALSCALE:GREGORIAN
METHOD:PUBLISH
X-WR-CALNAME:Tvořím a žiji svůj život
X-ORIGINAL-URL:https://tvorimazijisvujzivot.cz
X-WR-CALDESC:Akce na Tvořím a žiji svůj život
BEGIN:VTIMEZONE
TZID:Europe/Prague
BEGIN:DAYLIGHT
TZOFFSETFROM:+0100
TZOFFSETTO:+0200
TZNAME:CEST
DTSTART:20210328T010000
END:DAYLIGHT
BEGIN:STANDARD
TZOFFSETFROM:+0200
TZOFFSETTO:+0100
TZNAME:CET
DTSTART:20211031T010000
END:STANDARD
END:VTIMEZONE
BEGIN:VEVENT
DTSTART;TZID=Europe/Prague:20210703T100000
DTEND;TZID=Europe/Prague:20210708T160000
DTSTAMP:20260426T002905
CREATED:20210504T164725Z
LAST-MODIFIED:20210504T164725Z
UID:8775-1625306400-1625760000@tvorimazijisvujzivot.cz
SUMMARY:Birth Into Being a něco navíc
DESCRIPTION:Cena: 10 900 Kč \nZáloha: 2000 Kč do 15.06.2021 \nCena obsahuje ubytování\, stravu a program. \nJe možné se domluvit na splátkách. \n
URL:https://tvorimazijisvujzivot.cz/seminar/birth-into-being-a-neco-navic
LOCATION:Nenačovice\, Nenačovice\, Česká republika
CATEGORIES:Birth Into Being
ATTACH;FMTTYPE=image/jpeg:https://tvorimazijisvujzivot.cz/wp-content/uploads/2017/10/Bib_logo.jpg
ORGANIZER;CN="Ingrid%20Sukov%C3%A1":MAILTO:ingrid2000@volny.cz
END:VEVENT
END:VCALENDAR