BEGIN:VCALENDAR
VERSION:2.0
PRODID:-//Tvořím a žiji svůj život - ECPv5.1.0//NONSGML v1.0//EN
CALSCALE:GREGORIAN
METHOD:PUBLISH
X-WR-CALNAME:Tvořím a žiji svůj život
X-ORIGINAL-URL:https://tvorimazijisvujzivot.cz
X-WR-CALDESC:Akce na Tvořím a žiji svůj život
BEGIN:VTIMEZONE
TZID:Europe/Prague
BEGIN:DAYLIGHT
TZOFFSETFROM:+0100
TZOFFSETTO:+0200
TZNAME:CEST
DTSTART:20240331T010000
END:DAYLIGHT
BEGIN:STANDARD
TZOFFSETFROM:+0200
TZOFFSETTO:+0100
TZNAME:CET
DTSTART:20241027T010000
END:STANDARD
END:VTIMEZONE
BEGIN:VEVENT
DTSTART;TZID=Europe/Prague:20240703T100000
DTEND;TZID=Europe/Prague:20240707T170000
DTSTAMP:20260425T203701
CREATED:20240123T215252Z
LAST-MODIFIED:20240125T082124Z
UID:9136-1720000800-1720371600@tvorimazijisvujzivot.cz
SUMMARY:Sny a pohádky
DESCRIPTION:Cena: 11 300K Kč \nZáloha: 1500 Kč do 3.6.2024 \nCena obsahuje ubytování\, stravu a program. \nJe možné se domluvit na splátkách. \n
URL:https://tvorimazijisvujzivot.cz/seminar/birth-into-being-15
LOCATION:Nenačovice\, Nenačovice\, Česká republika
CATEGORIES:Archetypy
ATTACH;FMTTYPE=image/jpeg:https://tvorimazijisvujzivot.cz/wp-content/uploads/2017/10/Sebe_Lasky_K_Lasce_v1.jpg
ORGANIZER;CN="Ingrid%20Sukov%C3%A1":MAILTO:ingrid2000@volny.cz
END:VEVENT
END:VCALENDAR