BEGIN:VCALENDAR
VERSION:2.0
PRODID:-//Tvořím a žiji svůj život - ECPv5.1.0//NONSGML v1.0//EN
CALSCALE:GREGORIAN
METHOD:PUBLISH
X-WR-CALNAME:Tvořím a žiji svůj život
X-ORIGINAL-URL:https://tvorimazijisvujzivot.cz
X-WR-CALDESC:Akce na Tvořím a žiji svůj život
BEGIN:VTIMEZONE
TZID:Europe/Prague
BEGIN:DAYLIGHT
TZOFFSETFROM:+0100
TZOFFSETTO:+0200
TZNAME:CEST
DTSTART:20230326T010000
END:DAYLIGHT
BEGIN:STANDARD
TZOFFSETFROM:+0200
TZOFFSETTO:+0100
TZNAME:CET
DTSTART:20231029T010000
END:STANDARD
END:VTIMEZONE
BEGIN:VEVENT
DTSTART;VALUE=DATE:20230121
DTEND;VALUE=DATE:20230123
DTSTAMP:20260425T223828
CREATED:20201001T215937Z
LAST-MODIFIED:20221107T200830Z
UID:5150-1674259200-1674431999@tvorimazijisvujzivot.cz
SUMMARY:12 Principů života
DESCRIPTION:Cena: Více informací na stránce „12 Principů života“ \n21.01.-22.01.2023 od soboty 10:00 do neděle 17:30 \nCena: 2700 Kč \nZáloha: 500 Kč do 5.01.2023 \n  \n
URL:https://tvorimazijisvujzivot.cz/seminar/12-principu-zivota
LOCATION:Centrum Loreto (1. patro)\, Štorchova 1555/5\, Praha 8\, 180 00\, Česká republika
CATEGORIES:Archetypy
ATTACH;FMTTYPE=image/png:https://tvorimazijisvujzivot.cz/wp-content/uploads/2020/10/Astro.png
ORGANIZER;CN="Ingrid%20Sukov%C3%A1":MAILTO:ingrid2000@volny.cz
END:VEVENT
END:VCALENDAR