BEGIN:VCALENDAR
VERSION:2.0
PRODID:-//Tvořím a žiji svůj život - ECPv5.1.0//NONSGML v1.0//EN
CALSCALE:GREGORIAN
METHOD:PUBLISH
X-WR-CALNAME:Tvořím a žiji svůj život
X-ORIGINAL-URL:https://tvorimazijisvujzivot.cz
X-WR-CALDESC:Akce na Tvořím a žiji svůj život
BEGIN:VTIMEZONE
TZID:Europe/Prague
BEGIN:DAYLIGHT
TZOFFSETFROM:+0100
TZOFFSETTO:+0200
TZNAME:CEST
DTSTART:20240331T010000
END:DAYLIGHT
BEGIN:STANDARD
TZOFFSETFROM:+0200
TZOFFSETTO:+0100
TZNAME:CET
DTSTART:20241027T010000
END:STANDARD
END:VTIMEZONE
BEGIN:VEVENT
DTSTART;TZID=Europe/Prague:20240316T100000
DTEND;TZID=Europe/Prague:20240317T170000
DTSTAMP:20260425T224106
CREATED:20240123T211849Z
LAST-MODIFIED:20240125T081759Z
UID:9115-1710583200-1710694800@tvorimazijisvujzivot.cz
SUMMARY:12 Principů života
DESCRIPTION:Cena: Více informací na stránce „12 Principů života“ \n16 -17 .3.2024 od soboty 10:00 do neděle 17:30 \nCena: \n\nPři platbě za jednotlivé víkendy 3300Kč/víkend\nPři platbě za celý cyklus 2800Kč/víkend\n\nZáloha: 1000 Kč do 16.02.2024 \n
URL:https://tvorimazijisvujzivot.cz/seminar/12-principu-zivota-14
LOCATION:Domškoláci\, Schoellerova 81\, Praha-Čakovice\, Praha\, 196 00\, Česká republika
CATEGORIES:Archetypy
ATTACH;FMTTYPE=image/png:https://tvorimazijisvujzivot.cz/wp-content/uploads/2020/10/Astro.png
ORGANIZER;CN="Ingrid%20Sukov%C3%A1":MAILTO:ingrid2000@volny.cz
END:VEVENT
END:VCALENDAR